BEGIN:VCALENDAR
VERSION:2.0
PRODID:-//ESD 112 - ECPv6.15.19//NONSGML v1.0//EN
CALSCALE:GREGORIAN
METHOD:PUBLISH
X-ORIGINAL-URL:https://www.esd112.org
X-WR-CALDESC:Events for ESD 112
REFRESH-INTERVAL;VALUE=DURATION:PT1H
X-Robots-Tag:noindex
X-PUBLISHED-TTL:PT1H
BEGIN:VTIMEZONE
TZID:America/Los_Angeles
BEGIN:DAYLIGHT
TZOFFSETFROM:-0800
TZOFFSETTO:-0700
TZNAME:PDT
DTSTART:20230312T100000
END:DAYLIGHT
BEGIN:STANDARD
TZOFFSETFROM:-0700
TZOFFSETTO:-0800
TZNAME:PST
DTSTART:20231105T090000
END:STANDARD
BEGIN:DAYLIGHT
TZOFFSETFROM:-0800
TZOFFSETTO:-0700
TZNAME:PDT
DTSTART:20240310T100000
END:DAYLIGHT
BEGIN:STANDARD
TZOFFSETFROM:-0700
TZOFFSETTO:-0800
TZNAME:PST
DTSTART:20241103T090000
END:STANDARD
BEGIN:DAYLIGHT
TZOFFSETFROM:-0800
TZOFFSETTO:-0700
TZNAME:PDT
DTSTART:20250309T100000
END:DAYLIGHT
BEGIN:STANDARD
TZOFFSETFROM:-0700
TZOFFSETTO:-0800
TZNAME:PST
DTSTART:20251102T090000
END:STANDARD
END:VTIMEZONE
BEGIN:VEVENT
DTSTART;TZID=America/Los_Angeles:20240910T181500
DTEND;TZID=America/Los_Angeles:20240910T194500
DTSTAMP:20260425T061224
CREATED:20240611T154532Z
LAST-MODIFIED:20240710T161320Z
UID:10000159-1725992100-1725997500@www.esd112.org
SUMMARY:Charting Your Course
DESCRIPTION:In the busy world of early learning\, it can be tough to find time to reflect on the professional support you need\, as an educator\, to show up and do your best work for children and families. You might attend classes based on the date\, the cost\, or what someone else thinks you need. Come consider your strengths and challenges and share what you wish for in terms of future learning. Hear about professional development opportunities that already exist and how you can access them. Come prepared to share your learning needs so that we can plan training that aligns with your goals. This class provides 1.5 hours of STARS/in-service credit in MERIT. \nEvent Notes\n\nThe Zoom link will be sent out 1-2 days before the training to the email address that was used to register.
URL:https://www.esd112.org/event/169968-charting-your-course/
LOCATION:Online Only
CATEGORIES:#public
ATTACH;FMTTYPE=image/jpeg:https://www.esd112.org/wp-content/uploads/charting-course-pic-1050-x-700-px.jpg
END:VEVENT
END:VCALENDAR