BEGIN:VCALENDAR
VERSION:2.0
PRODID:-//ESD 112 - ECPv6.15.19//NONSGML v1.0//EN
CALSCALE:GREGORIAN
METHOD:PUBLISH
X-ORIGINAL-URL:https://www.esd112.org
X-WR-CALDESC:Events for ESD 112
REFRESH-INTERVAL;VALUE=DURATION:PT1H
X-Robots-Tag:noindex
X-PUBLISHED-TTL:PT1H
BEGIN:VTIMEZONE
TZID:America/Los_Angeles
BEGIN:DAYLIGHT
TZOFFSETFROM:-0800
TZOFFSETTO:-0700
TZNAME:PDT
DTSTART:20230312T100000
END:DAYLIGHT
BEGIN:STANDARD
TZOFFSETFROM:-0700
TZOFFSETTO:-0800
TZNAME:PST
DTSTART:20231105T090000
END:STANDARD
BEGIN:DAYLIGHT
TZOFFSETFROM:-0800
TZOFFSETTO:-0700
TZNAME:PDT
DTSTART:20240310T100000
END:DAYLIGHT
BEGIN:STANDARD
TZOFFSETFROM:-0700
TZOFFSETTO:-0800
TZNAME:PST
DTSTART:20241103T090000
END:STANDARD
BEGIN:DAYLIGHT
TZOFFSETFROM:-0800
TZOFFSETTO:-0700
TZNAME:PDT
DTSTART:20250309T100000
END:DAYLIGHT
BEGIN:STANDARD
TZOFFSETFROM:-0700
TZOFFSETTO:-0800
TZNAME:PST
DTSTART:20251102T090000
END:STANDARD
END:VTIMEZONE
BEGIN:VEVENT
DTSTART;TZID=America/Los_Angeles:20241016T181500
DTEND;TZID=America/Los_Angeles:20241016T201500
DTSTAMP:20260424T203140
CREATED:20240911T183253Z
LAST-MODIFIED:20240911T183324Z
UID:10000167-1729102500-1729109700@www.esd112.org
SUMMARY:POSITIVE BEHAVIOR GUIDANCE WITH INFANTS & TODDLERS
DESCRIPTION:In this two hour training\, infant and toddler caregivers will learn about developmentally appropriate expectations as well as strategies for guiding behavior with infants and toddlers. \n\nEvent Notes\n\nThe Zoom link will be sent out 1-2 days before the training to the email address that was used to register.
URL:https://www.esd112.org/event/positive-behavior-guidance-with-infants-toddlers/
CATEGORIES:#public
ATTACH;FMTTYPE=image/jpeg:https://www.esd112.org/wp-content/uploads/postiive-behavior-guidance-with-infants-toddlers.jpg
END:VEVENT
END:VCALENDAR