BEGIN:VCALENDAR
VERSION:2.0
PRODID:-//ESD 112 - ECPv6.15.19//NONSGML v1.0//EN
CALSCALE:GREGORIAN
METHOD:PUBLISH
X-WR-CALNAME:ESD 112
X-ORIGINAL-URL:https://www.esd112.org
X-WR-CALDESC:Events for ESD 112
REFRESH-INTERVAL;VALUE=DURATION:PT1H
X-Robots-Tag:noindex
X-PUBLISHED-TTL:PT1H
BEGIN:VTIMEZONE
TZID:America/Los_Angeles
BEGIN:DAYLIGHT
TZOFFSETFROM:-0800
TZOFFSETTO:-0700
TZNAME:PDT
DTSTART:20230312T100000
END:DAYLIGHT
BEGIN:STANDARD
TZOFFSETFROM:-0700
TZOFFSETTO:-0800
TZNAME:PST
DTSTART:20231105T090000
END:STANDARD
BEGIN:DAYLIGHT
TZOFFSETFROM:-0800
TZOFFSETTO:-0700
TZNAME:PDT
DTSTART:20240310T100000
END:DAYLIGHT
BEGIN:STANDARD
TZOFFSETFROM:-0700
TZOFFSETTO:-0800
TZNAME:PST
DTSTART:20241103T090000
END:STANDARD
BEGIN:DAYLIGHT
TZOFFSETFROM:-0800
TZOFFSETTO:-0700
TZNAME:PDT
DTSTART:20250309T100000
END:DAYLIGHT
BEGIN:STANDARD
TZOFFSETFROM:-0700
TZOFFSETTO:-0800
TZNAME:PST
DTSTART:20251102T090000
END:STANDARD
END:VTIMEZONE
BEGIN:VEVENT
DTSTART;TZID=America/Los_Angeles:20240923T150000
DTEND;TZID=America/Los_Angeles:20240923T170000
DTSTAMP:20260425T062617
CREATED:20240930T201244Z
LAST-MODIFIED:20240930T201244Z
UID:10000176-1727103600-1727110800@www.esd112.org
SUMMARY:ESD 112 Board of Directors' Meeting
DESCRIPTION:This meeting will be held via Zoom. The Zoom link will be posted one week prior. \nThe full agenda for this meeting will be available one week prior on the Board of Directors page.
URL:https://www.esd112.org/event/esd-112-board-of-directors-meeting-2/
LOCATION:Zoom
CATEGORIES:Board Meetings
END:VEVENT
END:VCALENDAR