BEGIN:VCALENDAR
VERSION:2.0
PRODID:-//ESD 112 - ECPv6.15.19//NONSGML v1.0//EN
CALSCALE:GREGORIAN
METHOD:PUBLISH
X-ORIGINAL-URL:https://www.esd112.org
X-WR-CALDESC:Events for ESD 112
REFRESH-INTERVAL;VALUE=DURATION:PT1H
X-Robots-Tag:noindex
X-PUBLISHED-TTL:PT1H
BEGIN:VTIMEZONE
TZID:America/Los_Angeles
BEGIN:DAYLIGHT
TZOFFSETFROM:-0800
TZOFFSETTO:-0700
TZNAME:PDT
DTSTART:20240310T100000
END:DAYLIGHT
BEGIN:STANDARD
TZOFFSETFROM:-0700
TZOFFSETTO:-0800
TZNAME:PST
DTSTART:20241103T090000
END:STANDARD
BEGIN:DAYLIGHT
TZOFFSETFROM:-0800
TZOFFSETTO:-0700
TZNAME:PDT
DTSTART:20250309T100000
END:DAYLIGHT
BEGIN:STANDARD
TZOFFSETFROM:-0700
TZOFFSETTO:-0800
TZNAME:PST
DTSTART:20251102T090000
END:STANDARD
BEGIN:DAYLIGHT
TZOFFSETFROM:-0800
TZOFFSETTO:-0700
TZNAME:PDT
DTSTART:20260308T100000
END:DAYLIGHT
BEGIN:STANDARD
TZOFFSETFROM:-0700
TZOFFSETTO:-0800
TZNAME:PST
DTSTART:20261101T090000
END:STANDARD
END:VTIMEZONE
BEGIN:VEVENT
DTSTART;TZID=America/Los_Angeles:20250115T180000
DTEND;TZID=America/Los_Angeles:20250115T203000
DTSTAMP:20260422T020305
CREATED:20241216T194730Z
LAST-MODIFIED:20250106T203759Z
UID:10000251-1736964000-1736973000@www.esd112.org
SUMMARY:Enhancing Quality Early Learning - Year 1
DESCRIPTION:Presenters\n\nJesi Sucku\n\nDescription\n\nEQEL is a 20-hour training that can be completed over 2 years. These first 10 hours include: Culturally Responsive Practices\, Responsive Caregiving\, Brain Building\, and Executive Function. The following roles hired after August 1\, 2019 must complete EQEL unless an approved alternative was met: assistant teacher\, lead teacher\, family home licensee\, program supervisor\, assistant director\, and center director. Alternatives include: an ECE Short or State Certificate\, and DCYF-recognized college/credit bearing alternative credentials for the ECE Short or State Certificates. \n\nEvent Notes\n\nParticipants must attend all four sessions to receive credit for the class. \n\n\nDates\nWed\, January 15 2025\n6:00 PM – 8:30 PM\nZoom \nWed\, January 29 2025\n6:00 PM – 8:30 PM\nZoom \nWed\, February 12 2025\n6:00 PM – 8:30 PM\nZoom \nWed\, February 26 2025\n6:00 PM – 8:30 PM\nZoom
URL:https://www.esd112.org/event/enhancing-quality-early-learning-year-2/
LOCATION:ESD 112 Conference Center\, Northeast 65th Avenue\, Vancouver\, Washington\, 98661\, United States
CATEGORIES:#public
ATTACH;FMTTYPE=image/jpeg:https://www.esd112.org/wp-content/uploads/EQEL-pic-1050-x-700-px.jpg
GEO:45.638797;-122.6058901
X-APPLE-STRUCTURED-LOCATION;VALUE=URI;X-ADDRESS=ESD 112 Conference Center Northeast 65th Avenue Vancouver Washington 98661 United States;X-APPLE-RADIUS=500;X-TITLE=Northeast 65th Avenue:geo:-122.6058901,45.638797
END:VEVENT
END:VCALENDAR