BEGIN:VCALENDAR
VERSION:2.0
PRODID:-//ESD 112 - ECPv6.15.19//NONSGML v1.0//EN
CALSCALE:GREGORIAN
METHOD:PUBLISH
X-ORIGINAL-URL:https://www.esd112.org
X-WR-CALDESC:Events for ESD 112
REFRESH-INTERVAL;VALUE=DURATION:PT1H
X-Robots-Tag:noindex
X-PUBLISHED-TTL:PT1H
BEGIN:VTIMEZONE
TZID:America/Los_Angeles
BEGIN:DAYLIGHT
TZOFFSETFROM:-0800
TZOFFSETTO:-0700
TZNAME:PDT
DTSTART:20240310T100000
END:DAYLIGHT
BEGIN:STANDARD
TZOFFSETFROM:-0700
TZOFFSETTO:-0800
TZNAME:PST
DTSTART:20241103T090000
END:STANDARD
BEGIN:DAYLIGHT
TZOFFSETFROM:-0800
TZOFFSETTO:-0700
TZNAME:PDT
DTSTART:20250309T100000
END:DAYLIGHT
BEGIN:STANDARD
TZOFFSETFROM:-0700
TZOFFSETTO:-0800
TZNAME:PST
DTSTART:20251102T090000
END:STANDARD
BEGIN:DAYLIGHT
TZOFFSETFROM:-0800
TZOFFSETTO:-0700
TZNAME:PDT
DTSTART:20260308T100000
END:DAYLIGHT
BEGIN:STANDARD
TZOFFSETFROM:-0700
TZOFFSETTO:-0800
TZNAME:PST
DTSTART:20261101T090000
END:STANDARD
END:VTIMEZONE
BEGIN:VEVENT
DTSTART;VALUE=DATE:20250409
DTEND;VALUE=DATE:20250410
DTSTAMP:20260423T050608
CREATED:20200107T232134Z
LAST-MODIFIED:20250128T171817Z
UID:10000046-1744156800-1744243199@www.esd112.org
SUMMARY:2025 Virtual Regional High School Art Show
DESCRIPTION:The Southwest Washington Regional High School Art Show is an annual event to celebrate the extraordinary artistic talent of the high school students in our region. Participation in the art show is a wonderful way to show off the work that your students are doing in the classroom and provides invaluable opportunities for student growth and learning. Winners of the Regional Awards are eligible to move on to participate at the state art show in Olympia. \nThe Regional High School Art Show is hosted by Educational Service District 112 (ESD 112) and will be virtual this year. The Virtual Art Show Event will Livestream on YouTube on April 9\, 2025 and is welcome for anyone to watch. \n\nLearn more
URL:https://www.esd112.org/event/regional-high-school-art-show/
CATEGORIES:Agency Events,Art Show,Community Events,Student Events
ATTACH;FMTTYPE=image/webp:https://www.esd112.org/wp-content/uploads/pic-event-Art-Show-2025-Awards.webp
END:VEVENT
END:VCALENDAR